BEGIN:VCALENDAR
PRODID:-//Vlavem.com//Veilingkalender MIMEDIR//EN
VERSION:2.0
METHOD:PUBLISH
BEGIN:VTIMEZONE
TZID:GMT
BEGIN:STANDARD
TZNAME:GMT
TZOFFSETFROM:+0100
TZOFFSETTO:+0100
END:STANDARD
END:VTIMEZONE
BEGIN:VEVENT

DTSTART:20260506T170000Z
DTEND:20260506T170000Z
LOCATION:Leuvenselaan 172, 3300 Tienen
CATEGORIES:Sluiting vanaf
TRANSP:OPAQUE
SEQUENCE:0
UID:RFCALITEM639122944729104735
DTSTAMP:20260506T170000Z
DESCRIPTION;ENCODING=QUOTED-PRINTABLE:Damesschoenen, wo. fabr. Hispanitas, Pikolinos, Roberto d&rsquo;Angelo, Elvio Zanon, Pedro Miralles, Scapa, Bruno Premi enz.
SUMMARY:Vlavem.com Sluiting vanaf - PARTIJ MERK DAMESSCHOENEN, WO. FABR. HISPANITAS, PIKOLINOS, ROBERTO D?ANGELO, ELVIO ZANON, PEDRO MIRALLES, SCAPA, BRUNO PREMI ENZ. (TIENEN) (6062)

PRIORITY:5
CLASS:PUBLIC
BEGIN:VALARM
TRIGGER:-PT120M
ACTION:DISPLAY
DESCRIPTION:Reminder
PRIORITY:5
END:VALARM
END:VEVENT
END:VCALENDAR