BEGIN:VCALENDAR
PRODID:-//Vlavem.com//Veilingkalender MIMEDIR//EN
VERSION:2.0
METHOD:PUBLISH
BEGIN:VTIMEZONE
TZID:GMT
BEGIN:STANDARD
TZNAME:GMT
TZOFFSETFROM:+0100
TZOFFSETTO:+0100
END:STANDARD
END:VTIMEZONE
BEGIN:VEVENT

DTSTART:20260430T170000Z
DTEND:20260430T170000Z
LOCATION:Sleestraat 42, 2820 Rijmenam (Bonheiden)
CATEGORIES:Sluiting vanaf
TRANSP:OPAQUE
SEQUENCE:0
UID:RFCALITEM639122944147311195
DTSTAMP:20260430T170000Z
DESCRIPTION;ENCODING=QUOTED-PRINTABLE:Afkomstig uit gerechtelijke verkoop: stationwagen Opel Astra Tourer en SUV Renault Captur.
SUMMARY:Vlavem.com Sluiting vanaf - AFKOMSTIG UIT GERECHTELIJKE VERKOOP: STATIONWAGEN OPEL ASTRA TOURER EN SUV RENAULT CAPTUR (RIJMENAM (BONHEIDEN) (6063)

PRIORITY:5
CLASS:PUBLIC
BEGIN:VALARM
TRIGGER:-PT120M
ACTION:DISPLAY
DESCRIPTION:Reminder
PRIORITY:5
END:VALARM
END:VEVENT
END:VCALENDAR