BEGIN:VCALENDAR
PRODID:-//Vlavem.com//Veilingkalender MIMEDIR//EN
VERSION:2.0
METHOD:PUBLISH
BEGIN:VTIMEZONE
TZID:GMT
BEGIN:STANDARD
TZNAME:GMT
TZOFFSETFROM:+0100
TZOFFSETTO:+0100
END:STANDARD
END:VTIMEZONE
BEGIN:VEVENT

DTSTART:20260504T170000Z
DTEND:20260504T170000Z
LOCATION:Boerenkamplaan 169, 5712 AD Someren (Nederland)
CATEGORIES:Sluiting vanaf
TRANSP:OPAQUE
SEQUENCE:0
UID:RFCALITEM639123684702406882
DTSTAMP:20260504T170000Z
DESCRIPTION;ENCODING=QUOTED-PRINTABLE:Totale resterende inboedel van restaurant &ldquo;de Chinese Roos&rdquo;.
SUMMARY:Vlavem.com Sluiting vanaf - TOTALE RESTERENDE INBOEDEL VAN RESTAURANT ?DE CHINESE ROOS? (SOMEREN) (NEDERLAND) (6064)

PRIORITY:5
CLASS:PUBLIC
BEGIN:VALARM
TRIGGER:-PT120M
ACTION:DISPLAY
DESCRIPTION:Reminder
PRIORITY:5
END:VALARM
END:VEVENT
END:VCALENDAR