BEGIN:VCALENDAR
PRODID:-//Vlavem.com//Veilingkalender MIMEDIR//EN
VERSION:2.0
METHOD:PUBLISH
BEGIN:VTIMEZONE
TZID:GMT
BEGIN:STANDARD
TZNAME:GMT
TZOFFSETFROM:+0100
TZOFFSETTO:+0100
END:STANDARD
END:VTIMEZONE
BEGIN:VEVENT

DTSTART:20260420T160000Z
DTEND:20260420T160000Z
LOCATION:Boerenkamplaan 169, 5712 AD Someren (Nederland)
CATEGORIES:Start vanaf
TRANSP:OPAQUE
SEQUENCE:0
UID:RFCALITEM639123682614380908
DTSTAMP:20260420T160000Z
DESCRIPTION;ENCODING=QUOTED-PRINTABLE:Totale resterende inboedel van restaurant &ldquo;de Chinese Roos&rdquo;.
SUMMARY:Vlavem.com Start vanaf - TOTALE RESTERENDE INBOEDEL VAN RESTAURANT ?DE CHINESE ROOS? (SOMEREN) (NEDERLAND) (6064)

PRIORITY:5
CLASS:PUBLIC
BEGIN:VALARM
TRIGGER:-PT120M
ACTION:DISPLAY
DESCRIPTION:Reminder
PRIORITY:5
END:VALARM
END:VEVENT
END:VCALENDAR