BEGIN:VCALENDAR
PRODID:-//Vlavem.com//Veilingkalender MIMEDIR//EN
VERSION:2.0
METHOD:PUBLISH
BEGIN:VTIMEZONE
TZID:GMT
BEGIN:STANDARD
TZNAME:GMT
TZOFFSETFROM:+0100
TZOFFSETTO:+0100
END:STANDARD
END:VTIMEZONE
BEGIN:VEVENT

DTSTART:20260421T120000Z
DTEND:20260421T120000Z
LOCATION:Tervuursesteenweg 308 (district 213), 3060 Bertem
CATEGORIES:Start vanaf
TRANSP:OPAQUE
SEQUENCE:0
UID:RFCALITEM639123841324020574
DTSTAMP:20260421T120000Z
DESCRIPTION;ENCODING=QUOTED-PRINTABLE:I.O.V. Agentschap Wegen En Verkeer: vrachtwagens, div. gereedschap, personenauto&rsquo;s Citro&euml;n, Ford en Opel.
SUMMARY:Vlavem.com Start vanaf - I.O.V. AGENTSCHAP WEGEN EN VERKEER: VRACHTWAGENS BOTSABSORBEERDERS, VRACHTWAGEN NISSAN MET LAADBRUG, VRACHTWAGEN RENAULT, DIV. GEREEDSCHAP, PERSONENAUTO?S CITRO?N, FORD EN OPEL (BERTEM) (6065)

PRIORITY:5
CLASS:PUBLIC
BEGIN:VALARM
TRIGGER:-PT120M
ACTION:DISPLAY
DESCRIPTION:Reminder
PRIORITY:5
END:VALARM
END:VEVENT
END:VCALENDAR