BEGIN:VCALENDAR
PRODID:-//Vlavem.com//Veilingkalender MIMEDIR//EN
VERSION:2.0
METHOD:PUBLISH
BEGIN:VTIMEZONE
TZID:GMT
BEGIN:STANDARD
TZNAME:GMT
TZOFFSETFROM:+0100
TZOFFSETTO:+0100
END:STANDARD
END:VTIMEZONE
BEGIN:VEVENT

DTSTART:20260512T170000Z
DTEND:20260512T170000Z
LOCATION:,  
CATEGORIES:Sluiting vanaf
TRANSP:OPAQUE
SEQUENCE:0
UID:RFCALITEM639123991122705788
DTSTAMP:20260512T170000Z
DESCRIPTION;ENCODING=QUOTED-PRINTABLE:Nieuwe drones met 4K camera en professionele GPS drones. Gratis levering. Lees de veiling info.
SUMMARY:Vlavem.com Sluiting vanaf - NIEUWE DRONES MET 4K CAMERA EN PROFESSIONELE GPS DRONES (GRATIS VERZENDING) (6066)

PRIORITY:5
CLASS:PUBLIC
BEGIN:VALARM
TRIGGER:-PT120M
ACTION:DISPLAY
DESCRIPTION:Reminder
PRIORITY:5
END:VALARM
END:VEVENT
END:VCALENDAR