BEGIN:VCALENDAR
PRODID:-//Vlavem.com//Veilingkalender MIMEDIR//EN
VERSION:2.0
METHOD:PUBLISH
BEGIN:VTIMEZONE
TZID:GMT
BEGIN:STANDARD
TZNAME:GMT
TZOFFSETFROM:+0100
TZOFFSETTO:+0100
END:STANDARD
END:VTIMEZONE
BEGIN:VEVENT

DTSTART:20260509T170000Z
DTEND:20260509T170000Z
LOCATION:Kongoplein 14, 2300 Turnhout
CATEGORIES:Sluiting vanaf
TRANSP:OPAQUE
SEQUENCE:0
UID:RFCALITEM639124897582818680
DTSTAMP:20260509T170000Z
DESCRIPTION;ENCODING=QUOTED-PRINTABLE:Div. goederen uit inboedels en overstocks: wo. meubelen, elektro, lp&rsquo;s, hobby toebehoren, kookgerief enz.
SUMMARY:Vlavem.com Sluiting vanaf - DIV. GOEDEREN UIT INBOEDELS EN OVERSTOCKS: WO. MEUBELEN, ELEKTRO, LP?S, HOBBY TOEBEHOREN, KOOKGERIEF ENZ. (TURNHOUT) (6067)

PRIORITY:5
CLASS:PUBLIC
BEGIN:VALARM
TRIGGER:-PT120M
ACTION:DISPLAY
DESCRIPTION:Reminder
PRIORITY:5
END:VALARM
END:VEVENT
END:VCALENDAR