BEGIN:VCALENDAR
PRODID:-//Vlavem.com//Veilingkalender MIMEDIR//EN
VERSION:2.0
METHOD:PUBLISH
BEGIN:VTIMEZONE
TZID:GMT
BEGIN:STANDARD
TZNAME:GMT
TZOFFSETFROM:+0100
TZOFFSETTO:+0100
END:STANDARD
END:VTIMEZONE
BEGIN:VEVENT

DTSTART:20260429T164500Z
DTEND:20260429T164500Z
LOCATION:Oudburgstraat 7 (Winkel Retro@bobbys), 9240 Zele
CATEGORIES:Sluiting vanaf
TRANSP:OPAQUE
SEQUENCE:0
UID:RFCALITEM639126419431132544
DTSTAMP:20260429T164500Z
DESCRIPTION;ENCODING=QUOTED-PRINTABLE:Diverse metalen retrolook sierborden.
SUMMARY:Vlavem.com Sluiting vanaf - DIVERSE METALEN RETROLOOK SIERBORDEN (ZELE) (6068)

PRIORITY:5
CLASS:PUBLIC
BEGIN:VALARM
TRIGGER:-PT120M
ACTION:DISPLAY
DESCRIPTION:Reminder
PRIORITY:5
END:VALARM
END:VEVENT
END:VCALENDAR