BEGIN:VCALENDAR
PRODID:-//Vlavem.com//Veilingkalender MIMEDIR//EN
VERSION:2.0
METHOD:PUBLISH
BEGIN:VTIMEZONE
TZID:GMT
BEGIN:STANDARD
TZNAME:GMT
TZOFFSETFROM:+0100
TZOFFSETTO:+0100
END:STANDARD
END:VTIMEZONE
BEGIN:VEVENT

DTSTART:20260520T110000Z
DTEND:20260520T130000Z
LOCATION:,  
CATEGORIES:Ophaaldag
TRANSP:OPAQUE
SEQUENCE:0
UID:RFCALITEM639126640546356024
DTSTAMP:20260520T110000Z
DESCRIPTION;ENCODING=QUOTED-PRINTABLE:Gereedschap, onderhoud, keukengerief, speelgoed, sanitair, huishouden enz. Gratis levering. Lees de veiling info.
SUMMARY:Vlavem.com Ophaaldag - NIEUWE CONSUMENTEN GOEDEREN: WO. GEREEDSCHAP, ONDERHOUD, KEUKENGERIEF, SPEELGOED, BEVESTIGINGSMATERIAAL ENZ. (GRATIS LEVERING) (6069)

PRIORITY:5
CLASS:PUBLIC
BEGIN:VALARM
TRIGGER:-PT120M
ACTION:DISPLAY
DESCRIPTION:Reminder
PRIORITY:5
END:VALARM
END:VEVENT
END:VCALENDAR