BEGIN:VCALENDAR
PRODID:-//Vlavem.com//Veilingkalender MIMEDIR//EN
VERSION:2.0
METHOD:PUBLISH
BEGIN:VTIMEZONE
TZID:GMT
BEGIN:STANDARD
TZNAME:GMT
TZOFFSETFROM:+0100
TZOFFSETTO:+0100
END:STANDARD
END:VTIMEZONE
BEGIN:VEVENT

DTSTART:20260512T080000Z
DTEND:20260512T100000Z
LOCATION:Industrieweg 17, 4561 GH Hulst (Nederland)
CATEGORIES:Kijkdag
TRANSP:OPAQUE
SEQUENCE:0
UID:RFCALITEM639126817704753314
DTSTAMP:20260512T080000Z
DESCRIPTION;ENCODING=QUOTED-PRINTABLE:Div. goederen: wo. brocante, munten, literatuur, strips, meubelen, modelbouw, militaria, lp&rsquo;s, single&rsquo;s, kaders/schilderijen enz.
SUMMARY:Vlavem.com Kijkdag - DIV. GOEDEREN: WO. BROCANTE, MUNTEN,  LITERATUUR, STRIPS, MEUBELEN, MODELBOUW, MILITARIA, LP?S, SINGLE?S, KADERS/SCHILDERIJEN ENZ. (HULST) (NL) (6070)

PRIORITY:5
CLASS:PUBLIC
BEGIN:VALARM
TRIGGER:-PT120M
ACTION:DISPLAY
DESCRIPTION:Reminder
PRIORITY:5
END:VALARM
END:VEVENT
END:VCALENDAR